BEGIN:VCALENDAR
VERSION:2.0
PRODID:-//Rev: Ithaca Startup Works - ECPv6.15.20//NONSGML v1.0//EN
CALSCALE:GREGORIAN
METHOD:PUBLISH
X-ORIGINAL-URL:https://www.revithaca.com
X-WR-CALDESC:Events for Rev: Ithaca Startup Works
REFRESH-INTERVAL;VALUE=DURATION:PT1H
X-Robots-Tag:noindex
X-PUBLISHED-TTL:PT1H
BEGIN:VTIMEZONE
TZID:America/New_York
BEGIN:DAYLIGHT
TZOFFSETFROM:-0500
TZOFFSETTO:-0400
TZNAME:EDT
DTSTART:20250309T070000
END:DAYLIGHT
BEGIN:STANDARD
TZOFFSETFROM:-0400
TZOFFSETTO:-0500
TZNAME:EST
DTSTART:20251102T060000
END:STANDARD
BEGIN:DAYLIGHT
TZOFFSETFROM:-0500
TZOFFSETTO:-0400
TZNAME:EDT
DTSTART:20260308T070000
END:DAYLIGHT
BEGIN:STANDARD
TZOFFSETFROM:-0400
TZOFFSETTO:-0500
TZNAME:EST
DTSTART:20261101T060000
END:STANDARD
BEGIN:DAYLIGHT
TZOFFSETFROM:-0500
TZOFFSETTO:-0400
TZNAME:EDT
DTSTART:20270314T070000
END:DAYLIGHT
BEGIN:STANDARD
TZOFFSETFROM:-0400
TZOFFSETTO:-0500
TZNAME:EST
DTSTART:20271107T060000
END:STANDARD
END:VTIMEZONE
BEGIN:VEVENT
DTSTART;TZID=America/New_York:20260213T120000
DTEND;TZID=America/New_York:20260213T130000
DTSTAMP:20260421T060340
CREATED:20260115T174938Z
LAST-MODIFIED:20260122T174751Z
UID:22218-1770984000-1770987600@www.revithaca.com
SUMMARY:Rev Entrepreneurship Essentials: Basic Accounting
DESCRIPTION:Contact: \nQuestions? Contact rev@revithaca.com \nAccessibility: \nPlease contact rev@revithaca.edu at least one week prior to the event with any accessibility needs. \nAgreement: \nBy registering for this event\, you acknowledge and agree to our Privacy Policy and Terms & Conditions. \nTell us what you think: \nWe welcome thoughts and feedback anytime. If you have a comment now or would like to share feedback after the event\, share it here. \nWatch Online: \nTo login to the live event on event day\, click the “Access the event” button to the right. (Note: You must be registered to access the event.) \n\n        Click here to register!
URL:https://www.revithaca.com/event/rev-content-session-accounting-feb-2026/
LOCATION:Virtual
CATEGORIES:Community Event
ORGANIZER;CN="Rev%3A Ithaca Startup Works":MAILTO:rev@revithaca.com
END:VEVENT
END:VCALENDAR