BEGIN:VCALENDAR
VERSION:2.0
PRODID:-//Rev: Ithaca Startup Works - ECPv6.15.20//NONSGML v1.0//EN
CALSCALE:GREGORIAN
METHOD:PUBLISH
X-ORIGINAL-URL:https://www.revithaca.com
X-WR-CALDESC:Events for Rev: Ithaca Startup Works
REFRESH-INTERVAL;VALUE=DURATION:PT1H
X-Robots-Tag:noindex
X-PUBLISHED-TTL:PT1H
BEGIN:VTIMEZONE
TZID:America/New_York
BEGIN:DAYLIGHT
TZOFFSETFROM:-0500
TZOFFSETTO:-0400
TZNAME:EDT
DTSTART:20230312T070000
END:DAYLIGHT
BEGIN:STANDARD
TZOFFSETFROM:-0400
TZOFFSETTO:-0500
TZNAME:EST
DTSTART:20231105T060000
END:STANDARD
BEGIN:DAYLIGHT
TZOFFSETFROM:-0500
TZOFFSETTO:-0400
TZNAME:EDT
DTSTART:20240310T070000
END:DAYLIGHT
BEGIN:STANDARD
TZOFFSETFROM:-0400
TZOFFSETTO:-0500
TZNAME:EST
DTSTART:20241103T060000
END:STANDARD
BEGIN:DAYLIGHT
TZOFFSETFROM:-0500
TZOFFSETTO:-0400
TZNAME:EDT
DTSTART:20250309T070000
END:DAYLIGHT
BEGIN:STANDARD
TZOFFSETFROM:-0400
TZOFFSETTO:-0500
TZNAME:EST
DTSTART:20251102T060000
END:STANDARD
END:VTIMEZONE
BEGIN:VEVENT
DTSTART;TZID=America/New_York:20240521T100000
DTEND;TZID=America/New_York:20240521T110000
DTSTAMP:20260424T064831
CREATED:20240402T183632Z
LAST-MODIFIED:20240402T183940Z
UID:18156-1716285600-1716289200@www.revithaca.com
SUMMARY:Rev Content Session: Discovering Your Brand with Maureen Ballatori
DESCRIPTION:Whether you’re a budding entrepreneur\, a seasoned professional\, or simply someone with a passion to express\, crafting your brand is essential for standing out in a crowded world. Join us virtually for a branding content session with Maureen Ballatori\, founder and CEO of Agency 29.   \nIn this session\, we’ll redefine branding and explore how holistic brand thinking can support your company’s growth. Maureen will discuss branding basics and need-to-knows for startups. \nAdmission is free and anyone with an established company is welcome to attend. Rev member startups are invited to book a 1:1 chat with Maureen after the session. Please RSVP to attend\, as space is limited.   \n\n        Click here to register!
URL:https://www.revithaca.com/event/prototyping-info-session-march-24-2021-2-4-2-2-2-2-2-3/
LOCATION:Virtual
CATEGORIES:Community Event,Featured
ATTACH;FMTTYPE=image/png:https://www.revithaca.com/wp-content/uploads/2024/04/DiscoverBrand-noQR.png
ORGANIZER;CN="Rev%3A Ithaca Startup Works":MAILTO:rev@revithaca.com
END:VEVENT
END:VCALENDAR