BEGIN:VCALENDAR
VERSION:2.0
PRODID:-//Rev: Ithaca Startup Works - ECPv6.15.20//NONSGML v1.0//EN
CALSCALE:GREGORIAN
METHOD:PUBLISH
X-ORIGINAL-URL:https://www.revithaca.com
X-WR-CALDESC:Events for Rev: Ithaca Startup Works
REFRESH-INTERVAL;VALUE=DURATION:PT1H
X-Robots-Tag:noindex
X-PUBLISHED-TTL:PT1H
BEGIN:VTIMEZONE
TZID:America/New_York
BEGIN:DAYLIGHT
TZOFFSETFROM:-0500
TZOFFSETTO:-0400
TZNAME:EDT
DTSTART:20240310T070000
END:DAYLIGHT
BEGIN:STANDARD
TZOFFSETFROM:-0400
TZOFFSETTO:-0500
TZNAME:EST
DTSTART:20241103T060000
END:STANDARD
BEGIN:DAYLIGHT
TZOFFSETFROM:-0500
TZOFFSETTO:-0400
TZNAME:EDT
DTSTART:20250309T070000
END:DAYLIGHT
BEGIN:STANDARD
TZOFFSETFROM:-0400
TZOFFSETTO:-0500
TZNAME:EST
DTSTART:20251102T060000
END:STANDARD
BEGIN:DAYLIGHT
TZOFFSETFROM:-0500
TZOFFSETTO:-0400
TZNAME:EDT
DTSTART:20260308T070000
END:DAYLIGHT
BEGIN:STANDARD
TZOFFSETFROM:-0400
TZOFFSETTO:-0500
TZNAME:EST
DTSTART:20261101T060000
END:STANDARD
END:VTIMEZONE
BEGIN:VEVENT
DTSTART;TZID=America/New_York:20250122T090000
DTEND;TZID=America/New_York:20250122T103000
DTSTAMP:20260421T055030
CREATED:20240823T143023Z
LAST-MODIFIED:20240823T143023Z
UID:19043-1737536400-1737541800@www.revithaca.com
SUMMARY:Rev Content Session: Anti Sexual Harassment Training
DESCRIPTION:  \n\n        Click here to register!
URL:https://www.revithaca.com/event/anti-sexual-harassment-training/
LOCATION:Rev: Ithaca Startup Works\, 314 E State St\, Ithaca
CATEGORIES:Community Event,Featured
ORGANIZER;CN="Rev%3A Ithaca Startup Works":MAILTO:rev@revithaca.com
END:VEVENT
END:VCALENDAR